Package: BiocNeighbors Version: 2.3.1 Command: /Library/Frameworks/R.framework/Resources/bin/R CMD check --install=check:BiocNeighbors.install-out.txt --library=/Library/Frameworks/R.framework/Resources/library --no-vignettes --timings BiocNeighbors_2.3.1.tar.gz StartedAt: 2025-07-01 18:14:48 -0400 (Tue, 01 Jul 2025) EndedAt: 2025-07-01 18:15:10 -0400 (Tue, 01 Jul 2025) EllapsedTime: 21.2 seconds RetCode: 0 Status: OK CheckDir: BiocNeighbors.Rcheck Warnings: 0