Package: BiocNeighbors Version: 2.3.1 Command: /Library/Frameworks/R.framework/Resources/bin/R CMD build --keep-empty-dirs --no-resave-data BiocNeighbors StartedAt: 2025-07-01 15:43:17 -0400 (Tue, 01 Jul 2025) EndedAt: 2025-07-01 15:43:31 -0400 (Tue, 01 Jul 2025) EllapsedTime: 14.2 seconds RetCode: 0 Status: OK PackageFile: BiocNeighbors_2.3.1.tar.gz PackageFileSize: 328.7 KiB