Package: BiocNeighbors Version: 2.3.1 Command: rm -rf BiocNeighbors.buildbin-libdir && mkdir BiocNeighbors.buildbin-libdir && /Users/biocbuild/BBS/utils/build-universal.sh BiocNeighbors_2.3.1.tar.gz /Library/Frameworks/R.framework/Resources/bin/R BiocNeighbors.buildbin-libdir StartedAt: 2025-07-01 22:11:52 -0400 (Tue, 01 Jul 2025) EndedAt: 2025-07-01 22:12:05 -0400 (Tue, 01 Jul 2025) EllapsedTime: 12.3 seconds RetCode: 0 Status: OK PackageFile: BiocNeighbors_2.3.1.tgz PackageFileSize: 682.6 KiB