Package: BiocIO Version: 1.19.0 Command: /Library/Frameworks/R.framework/Resources/bin/R CMD INSTALL BiocIO StartedAt: 2025-07-14 15:23:04 -0400 (Mon, 14 Jul 2025) EndedAt: 2025-07-14 15:23:12 -0400 (Mon, 14 Jul 2025) EllapsedTime: 8.4 seconds RetCode: 0 Status: OK