Package: BiocIO Version: 1.19.0 Command: /Library/Frameworks/R.framework/Resources/bin/R CMD check --install=check:BiocIO.install-out.txt --library=/Library/Frameworks/R.framework/Resources/library --no-vignettes --timings BiocIO_1.19.0.tar.gz StartedAt: 2025-07-14 19:25:02 -0400 (Mon, 14 Jul 2025) EndedAt: 2025-07-14 19:25:54 -0400 (Mon, 14 Jul 2025) EllapsedTime: 52.7 seconds RetCode: 0 Status: OK CheckDir: BiocIO.Rcheck Warnings: 0