Package: BiocIO Version: 1.19.0 Command: rm -rf BiocIO.buildbin-libdir && mkdir BiocIO.buildbin-libdir && /Users/biocbuild/BBS/utils/build-universal.sh BiocIO_1.19.0.tar.gz /Library/Frameworks/R.framework/Resources/bin/R BiocIO.buildbin-libdir StartedAt: 2025-07-15 00:47:19 -0400 (Tue, 15 Jul 2025) EndedAt: 2025-07-15 00:47:28 -0400 (Tue, 15 Jul 2025) EllapsedTime: 9.4 seconds RetCode: 0 Status: OK PackageFile: BiocIO_1.19.0.tgz PackageFileSize: 418.3 KiB