Package: BiocHubsShiny Version: 1.9.1 Command: F:\biocbuild\bbs-3.22-bioc\R\bin\R.exe CMD check --no-multiarch --install=check:BiocHubsShiny.install-out.txt --library=F:\biocbuild\bbs-3.22-bioc\R\library --no-vignettes --timings BiocHubsShiny_1.9.1.tar.gz StartedAt: 2025-08-15 00:55:41 -0400 (Fri, 15 Aug 2025) EndedAt: 2025-08-15 00:58:40 -0400 (Fri, 15 Aug 2025) EllapsedTime: 178.3 seconds RetCode: 0 Status: OK CheckDir: BiocHubsShiny.Rcheck Warnings: 0