Package: BiocHail Version: 1.9.0 Command: /home/biocbuild/R/R/bin/R CMD build --keep-empty-dirs --no-resave-data BiocHail StartedAt: 2025-06-30 22:09:05 -0000 (Mon, 30 Jun 2025) EndedAt: 2025-06-30 22:09:44 -0000 (Mon, 30 Jun 2025) EllapsedTime: 39.0 seconds RetCode: 0 Status: OK PackageFile: BiocHail_1.9.0.tar.gz PackageFileSize: 2.643 MiB