Package: BiocHail Version: 1.9.0 Command: /home/biocbuild/bbs-3.22-bioc/R/bin/R CMD INSTALL BiocHail StartedAt: 2025-06-30 15:10:54 -0400 (Mon, 30 Jun 2025) EndedAt: 2025-06-30 15:11:03 -0400 (Mon, 30 Jun 2025) EllapsedTime: 8.2 seconds RetCode: 0 Status: OK