Package: BiocHail Version: 1.9.0 Command: /home/biocbuild/bbs-3.22-bioc/R/bin/R CMD build --keep-empty-dirs --no-resave-data --md5 BiocHail StartedAt: 2025-06-29 16:22:06 -0400 (Sun, 29 Jun 2025) EndedAt: 2025-06-29 16:22:33 -0400 (Sun, 29 Jun 2025) EllapsedTime: 27.0 seconds RetCode: 0 Status: OK PackageFile: BiocHail_1.9.0.tar.gz PackageFileSize: 2.607 MiB