Package: BiocGenerics Version: 0.55.0 Command: /home/biocbuild/R/R/bin/R CMD INSTALL BiocGenerics StartedAt: 2025-07-14 20:23:41 -0000 (Mon, 14 Jul 2025) EndedAt: 2025-07-14 20:24:03 -0000 (Mon, 14 Jul 2025) EllapsedTime: 22.4 seconds RetCode: 0 Status: OK