Package: BiocGenerics Version: 0.55.0 Command: /home/biocbuild/R/R/bin/R CMD check --install=check:BiocGenerics.install-out.txt --library=/home/biocbuild/R/R/site-library --no-vignettes --timings BiocGenerics_0.55.0.tar.gz StartedAt: 2025-07-15 04:33:25 -0000 (Tue, 15 Jul 2025) EndedAt: 2025-07-15 04:34:34 -0000 (Tue, 15 Jul 2025) EllapsedTime: 68.1 seconds RetCode: 0 Status: WARNINGS CheckDir: BiocGenerics.Rcheck Warnings: 1