Package: BiocGenerics Version: 0.55.0 Command: /Library/Frameworks/R.framework/Resources/bin/R CMD check --install=check:BiocGenerics.install-out.txt --library=/Library/Frameworks/R.framework/Resources/library --no-vignettes --timings BiocGenerics_0.55.0.tar.gz StartedAt: 2025-07-13 18:14:01 -0400 (Sun, 13 Jul 2025) EndedAt: 2025-07-13 18:14:29 -0400 (Sun, 13 Jul 2025) EllapsedTime: 28.3 seconds RetCode: 0 Status: WARNINGS CheckDir: BiocGenerics.Rcheck Warnings: 1