Package: BiocGenerics Version: 0.55.0 Command: /Library/Frameworks/R.framework/Resources/bin/R CMD build --keep-empty-dirs --no-resave-data BiocGenerics StartedAt: 2025-07-14 15:43:16 -0400 (Mon, 14 Jul 2025) EndedAt: 2025-07-14 15:43:17 -0400 (Mon, 14 Jul 2025) EllapsedTime: 1.0 seconds RetCode: 0 Status: OK PackageFile: BiocGenerics_0.55.0.tar.gz PackageFileSize: 54.79 KiB