Package: BiocFHIR Version: 1.11.0 Command: /home/biocbuild/R/R/bin/R CMD build --keep-empty-dirs --no-resave-data BiocFHIR StartedAt: 2025-07-17 22:05:10 -0000 (Thu, 17 Jul 2025) EndedAt: 2025-07-17 22:05:53 -0000 (Thu, 17 Jul 2025) EllapsedTime: 43.0 seconds RetCode: 0 Status: OK PackageFile: BiocFHIR_1.11.0.tar.gz PackageFileSize: 4.597 MiB