Package: BiocFHIR Version: 1.11.0 Command: /Library/Frameworks/R.framework/Resources/bin/R CMD INSTALL BiocFHIR StartedAt: 2025-07-11 15:14:38 -0400 (Fri, 11 Jul 2025) EndedAt: 2025-07-11 15:14:54 -0400 (Fri, 11 Jul 2025) EllapsedTime: 15.9 seconds RetCode: 0 Status: OK