Package: BiocFHIR Version: 1.11.0 Command: /Library/Frameworks/R.framework/Resources/bin/R CMD check --install=check:BiocFHIR.install-out.txt --library=/Library/Frameworks/R.framework/Resources/library --no-vignettes --timings BiocFHIR_1.11.0.tar.gz StartedAt: 2025-07-22 18:15:07 -0400 (Tue, 22 Jul 2025) EndedAt: 2025-07-22 18:15:52 -0400 (Tue, 22 Jul 2025) EllapsedTime: 45.4 seconds RetCode: 0 Status: OK CheckDir: BiocFHIR.Rcheck Warnings: 0