Package: BiocCheck Version: 1.45.8 Command: F:\biocbuild\bbs-3.22-bioc\R\bin\R.exe CMD INSTALL BiocCheck StartedAt: 2025-07-22 15:40:36 -0400 (Tue, 22 Jul 2025) EndedAt: 2025-07-22 15:41:28 -0400 (Tue, 22 Jul 2025) EllapsedTime: 51.7 seconds RetCode: 0 Status: OK