Package: BiocCheck Version: 1.45.8 Command: chmod a+r BiocCheck -R && F:\biocbuild\bbs-3.22-bioc\R\bin\R.exe CMD build --keep-empty-dirs --no-resave-data BiocCheck StartedAt: 2025-07-22 17:37:59 -0400 (Tue, 22 Jul 2025) EndedAt: 2025-07-22 17:38:37 -0400 (Tue, 22 Jul 2025) EllapsedTime: 38.4 seconds RetCode: 0 Status: OK PackageFile: BiocCheck_1.45.8.tar.gz PackageFileSize: 311.6 KiB