Package: BiocCheck Version: 1.45.8 Command: rm -rf BiocCheck.buildbin-libdir && mkdir BiocCheck.buildbin-libdir && F:\biocbuild\bbs-3.22-bioc\R\bin\R.exe CMD INSTALL --build --library=BiocCheck.buildbin-libdir BiocCheck_1.45.8.tar.gz StartedAt: 2025-07-23 08:40:01 -0400 (Wed, 23 Jul 2025) EndedAt: 2025-07-23 08:41:17 -0400 (Wed, 23 Jul 2025) EllapsedTime: 75.6 seconds RetCode: 0 Status: OK PackageFile: BiocCheck_1.45.8.zip PackageFileSize: 662.3 KiB