Package: BiocBook Version: 1.7.0 Command: F:\biocbuild\bbs-3.22-bioc\R\bin\R.exe CMD INSTALL BiocBook StartedAt: 2025-07-07 15:34:25 -0400 (Mon, 07 Jul 2025) EndedAt: 2025-07-07 15:34:50 -0400 (Mon, 07 Jul 2025) EllapsedTime: 24.9 seconds RetCode: 0 Status: OK