Package: BiocBook Version: 1.7.0 Command: rm -rf BiocBook.buildbin-libdir && mkdir BiocBook.buildbin-libdir && F:\biocbuild\bbs-3.22-bioc\R\bin\R.exe CMD INSTALL --build --library=BiocBook.buildbin-libdir BiocBook_1.7.0.tar.gz StartedAt: 2025-07-08 08:28:24 -0400 (Tue, 08 Jul 2025) EndedAt: 2025-07-08 08:28:55 -0400 (Tue, 08 Jul 2025) EllapsedTime: 31.0 seconds RetCode: 0 Status: OK PackageFile: BiocBook_1.7.0.zip PackageFileSize: 1.034 MiB