Package: Bioc.gff Version: 0.99.17 Command: /home/biocbuild/R/R/bin/R CMD INSTALL Bioc.gff StartedAt: 2025-10-02 20:36:56 -0000 (Thu, 02 Oct 2025) EndedAt: 2025-10-02 20:37:14 -0000 (Thu, 02 Oct 2025) EllapsedTime: 18.0 seconds RetCode: 0 Status: OK