Package: Bioc.gff Version: 0.99.17 Command: /home/biocbuild/R/R/bin/R CMD build --keep-empty-dirs --no-resave-data Bioc.gff StartedAt: 2025-10-02 22:17:50 -0000 (Thu, 02 Oct 2025) EndedAt: 2025-10-02 22:18:44 -0000 (Thu, 02 Oct 2025) EllapsedTime: 54.0 seconds RetCode: 0 Status: OK PackageFile: Bioc.gff_0.99.17.tar.gz PackageFileSize: 289.9 KiB