Package: Bioc.gff Version: 0.99.17 Command: /home/biocbuild/bbs-3.22-bioc/R/bin/R CMD check --install=check:Bioc.gff.install-out.txt --library=/home/biocbuild/bbs-3.22-bioc/R/site-library --timings Bioc.gff_0.99.17.tar.gz StartedAt: 2025-10-06 21:27:36 -0400 (Mon, 06 Oct 2025) EndedAt: 2025-10-06 21:30:49 -0400 (Mon, 06 Oct 2025) EllapsedTime: 192.4 seconds RetCode: 0 Status: OK CheckDir: Bioc.gff.Rcheck Warnings: 0