Package: Bioc.gff Version: 0.99.17 Command: /Library/Frameworks/R.framework/Resources/bin/R CMD INSTALL Bioc.gff StartedAt: 2025-10-06 15:18:57 -0400 (Mon, 06 Oct 2025) EndedAt: 2025-10-06 15:19:17 -0400 (Mon, 06 Oct 2025) EllapsedTime: 19.5 seconds RetCode: 0 Status: OK