Package: Bioc.gff Version: 0.99.17 Command: /Library/Frameworks/R.framework/Resources/bin/R CMD build --keep-empty-dirs --no-resave-data Bioc.gff StartedAt: 2025-10-06 16:09:37 -0400 (Mon, 06 Oct 2025) EndedAt: 2025-10-06 16:10:38 -0400 (Mon, 06 Oct 2025) EllapsedTime: 60.6 seconds RetCode: 0 Status: OK PackageFile: Bioc.gff_0.99.17.tar.gz PackageFileSize: 264.8 KiB