Package: Bioc.gff Version: 0.99.17 Command: /Library/Frameworks/R.framework/Resources/bin/R CMD INSTALL Bioc.gff StartedAt: 2025-10-06 15:10:50 -0400 (Mon, 06 Oct 2025) EndedAt: 2025-10-06 15:10:55 -0400 (Mon, 06 Oct 2025) EllapsedTime: 5.3 seconds RetCode: 0 Status: OK