############################################################################## ############################################################################## ### ### Running command: ### ### /Library/Frameworks/R.framework/Resources/bin/R CMD build --keep-empty-dirs --no-resave-data Bioc.gff ### ############################################################################## ############################################################################## * checking for file ‘Bioc.gff/DESCRIPTION’ ... OK * preparing ‘Bioc.gff’: * checking DESCRIPTION meta-information ... OK * cleaning src * installing the package to build vignettes * creating vignettes ... OK * cleaning src * checking for LF line-endings in source and make files and shell scripts * checking for empty or unneeded directories * building ‘Bioc.gff_0.99.17.tar.gz’