Package: Bioc.gff Version: 0.99.17 Command: rm -rf Bioc.gff.buildbin-libdir && mkdir Bioc.gff.buildbin-libdir && /Users/biocbuild/BBS/utils/build-universal.sh Bioc.gff_0.99.17.tar.gz /Library/Frameworks/R.framework/Resources/bin/R Bioc.gff.buildbin-libdir StartedAt: 2025-10-06 22:36:35 -0400 (Mon, 06 Oct 2025) EndedAt: 2025-10-06 22:36:41 -0400 (Mon, 06 Oct 2025) EllapsedTime: 6.1 seconds RetCode: 0 Status: OK PackageFile: Bioc.gff_0.99.17.tgz PackageFileSize: 369.8 KiB