Package: Biobase Version: 2.69.0 Command: /Library/Frameworks/R.framework/Resources/bin/R CMD check --install=check:Biobase.install-out.txt --library=/Library/Frameworks/R.framework/Resources/library --no-vignettes --timings Biobase_2.69.0.tar.gz StartedAt: 2025-07-11 19:20:41 -0400 (Fri, 11 Jul 2025) EndedAt: 2025-07-11 19:22:18 -0400 (Fri, 11 Jul 2025) EllapsedTime: 97.3 seconds RetCode: 0 Status: OK CheckDir: Biobase.Rcheck Warnings: 0