Package: Biobase Version: 2.69.0 Command: /Library/Frameworks/R.framework/Resources/bin/R CMD build --keep-empty-dirs --no-resave-data Biobase StartedAt: 2025-07-11 16:10:54 -0400 (Fri, 11 Jul 2025) EndedAt: 2025-07-11 16:11:22 -0400 (Fri, 11 Jul 2025) EllapsedTime: 27.5 seconds RetCode: 0 Status: OK PackageFile: Biobase_2.69.0.tar.gz PackageFileSize: 1.885 MiB