Package: BioTIP Version: 1.23.1 Command: /home/biocbuild/R/R/bin/R CMD INSTALL BioTIP StartedAt: 2025-07-14 21:16:41 -0000 (Mon, 14 Jul 2025) EndedAt: 2025-07-14 21:16:57 -0000 (Mon, 14 Jul 2025) EllapsedTime: 16.4 seconds RetCode: 0 Status: OK