Package: BioTIP Version: 1.23.1 Command: /home/biocbuild/R/R/bin/R CMD check --install=check:BioTIP.install-out.txt --library=/home/biocbuild/R/R/site-library --no-vignettes --timings BioTIP_1.23.1.tar.gz StartedAt: 2025-07-01 05:23:19 -0000 (Tue, 01 Jul 2025) EndedAt: 2025-07-01 05:25:21 -0000 (Tue, 01 Jul 2025) EllapsedTime: 122.2 seconds RetCode: 0 Status: WARNINGS CheckDir: BioTIP.Rcheck Warnings: 3