Package: BioTIP Version: 1.23.1 Command: /home/biocbuild/R/R/bin/R CMD build --keep-empty-dirs --no-resave-data BioTIP StartedAt: 2025-06-30 22:13:50 -0000 (Mon, 30 Jun 2025) EndedAt: 2025-06-30 22:18:47 -0000 (Mon, 30 Jun 2025) EllapsedTime: 297.1 seconds RetCode: 0 Status: OK PackageFile: BioTIP_1.23.1.tar.gz PackageFileSize: 7.86 MiB