Package: BioNet Version: 1.69.0 Command: /home/biocbuild/bbs-3.22-bioc/R/bin/R CMD INSTALL BioNet StartedAt: 2025-10-03 15:24:31 -0400 (Fri, 03 Oct 2025) EndedAt: 2025-10-03 15:24:44 -0400 (Fri, 03 Oct 2025) EllapsedTime: 13.7 seconds RetCode: 0 Status: OK