Package: BioNet Version: 1.69.0 Command: /home/biocbuild/bbs-3.22-bioc/R/bin/R CMD check --install=check:BioNet.install-out.txt --library=/home/biocbuild/bbs-3.22-bioc/R/site-library --timings BioNet_1.69.0.tar.gz StartedAt: 2025-10-03 21:33:21 -0400 (Fri, 03 Oct 2025) EndedAt: 2025-10-03 21:37:35 -0400 (Fri, 03 Oct 2025) EllapsedTime: 254.4 seconds RetCode: 0 Status: OK CheckDir: BioNet.Rcheck Warnings: 0