Package: BioNet Version: 1.69.0 Command: /home/biocbuild/bbs-3.22-bioc/R/bin/R CMD build --keep-empty-dirs --no-resave-data --md5 BioNet StartedAt: 2025-10-03 16:27:56 -0400 (Fri, 03 Oct 2025) EndedAt: 2025-10-03 16:28:48 -0400 (Fri, 03 Oct 2025) EllapsedTime: 52.0 seconds RetCode: 0 Status: OK PackageFile: BioNet_1.69.0.tar.gz PackageFileSize: 1.803 MiB