Package: BioNERO Version: 1.17.0 Command: /Library/Frameworks/R.framework/Resources/bin/R CMD INSTALL BioNERO StartedAt: 2025-07-11 15:22:27 -0400 (Fri, 11 Jul 2025) EndedAt: 2025-07-11 15:22:41 -0400 (Fri, 11 Jul 2025) EllapsedTime: 14.1 seconds RetCode: 0 Status: OK