Package: BioNERO Version: 1.17.0 Command: /Library/Frameworks/R.framework/Resources/bin/R CMD check --install=check:BioNERO.install-out.txt --library=/Library/Frameworks/R.framework/Resources/library --no-vignettes --timings BioNERO_1.17.0.tar.gz StartedAt: 2025-07-11 18:16:39 -0400 (Fri, 11 Jul 2025) EndedAt: 2025-07-11 18:19:42 -0400 (Fri, 11 Jul 2025) EllapsedTime: 183.2 seconds RetCode: 0 Status: OK CheckDir: BioNERO.Rcheck Warnings: 0