Package: BioNAR Version: 1.11.0 Command: chmod a+r BioNAR -R && F:\biocbuild\bbs-3.22-bioc\R\bin\R.exe CMD build --keep-empty-dirs --no-resave-data BioNAR StartedAt: 2025-06-29 17:41:13 -0400 (Sun, 29 Jun 2025) EndedAt: 2025-06-29 17:45:16 -0400 (Sun, 29 Jun 2025) EllapsedTime: 243.8 seconds RetCode: 0 Status: OK PackageFile: BioNAR_1.11.0.tar.gz PackageFileSize: 2.627 MiB