Package: BioNAR Version: 1.11.0 Command: /Library/Frameworks/R.framework/Resources/bin/R CMD check --install=check:BioNAR.install-out.txt --library=/Library/Frameworks/R.framework/Resources/library --no-vignettes --timings BioNAR_1.11.0.tar.gz StartedAt: 2025-07-11 19:25:02 -0400 (Fri, 11 Jul 2025) EndedAt: 2025-07-11 19:34:28 -0400 (Fri, 11 Jul 2025) EllapsedTime: 565.5 seconds RetCode: 0 Status: OK CheckDir: BioNAR.Rcheck Warnings: 0