############################################################################## ############################################################################## ### ### Running command: ### ### /Library/Frameworks/R.framework/Resources/bin/R CMD check --install=check:BioNAR.install-out.txt --library=/Library/Frameworks/R.framework/Resources/library --no-vignettes --timings BioNAR_1.11.0.tar.gz ### ############################################################################## ############################################################################## * using log directory ‘/Users/biocbuild/bbs-3.22-bioc/meat/BioNAR.Rcheck’ * using R version 4.5.1 (2025-06-13) * using platform: x86_64-apple-darwin20 * R was compiled by Apple clang version 14.0.0 (clang-1400.0.29.202) GNU Fortran (GCC) 14.2.0 * running under: macOS Monterey 12.7.6 * using session charset: UTF-8 * using option ‘--no-vignettes’ * checking for file ‘BioNAR/DESCRIPTION’ ... OK * this is package ‘BioNAR’ version ‘1.11.0’ * package encoding: UTF-8 * checking package namespace information ... OK * checking package dependencies ... OK * checking if this is a source package ... OK * checking if there is a namespace ... OK * checking for hidden files and directories ... OK * checking for portable file names ... OK * checking for sufficient/correct file permissions ... OK * checking whether package ‘BioNAR’ can be installed ... OK * checking installed package size ... INFO installed size is 6.8Mb sub-directories of 1Mb or more: extdata 6.1Mb * checking package directory ... OK * checking ‘build’ directory ... OK * checking DESCRIPTION meta-information ... OK * checking top-level files ... OK * checking for left-over files ... OK * checking index information ... OK * checking package subdirectories ... OK * checking code files for non-ASCII characters ... OK * checking R files for syntax errors ... OK * checking whether the package can be loaded ... OK * checking whether the package can be loaded with stated dependencies ... OK * checking whether the package can be unloaded cleanly ... OK * checking whether the namespace can be loaded with stated dependencies ... OK * checking whether the namespace can be unloaded cleanly ... OK * checking dependencies in R code ... NOTE Package in Depends field not imported from: ‘Rdpack’ These packages need to be imported from (in the NAMESPACE file) for when this namespace is loaded but not attached. There are ::: calls to the package's namespace in its code. A package almost never needs to use ::: for its own objects: ‘addNoise’ ‘gofs’ ‘highlightRate’ ‘plotSigmoid’ * checking S3 generic/method consistency ... OK * checking replacement functions ... OK * checking foreign function calls ... OK * checking R code for possible problems ... OK * checking Rd files ... OK * checking Rd metadata ... OK * checking Rd cross-references ... NOTE Unknown package ‘clusterCons’ in Rd xrefs * checking for missing documentation entries ... OK * checking for code/documentation mismatches ... OK * checking Rd \usage sections ... OK * checking Rd contents ... OK * checking for unstated dependencies in examples ... OK * checking contents of ‘data’ directory ... OK * checking data for non-ASCII characters ... OK * checking LazyData ... OK * checking data for ASCII and uncompressed saves ... OK * checking files in ‘vignettes’ ... OK * checking examples ... OK Examples with CPU (user + system) or elapsed time > 5s user system elapsed calcEntropy 11.733 1.472 14.185 addEdgeAtts 10.373 2.483 16.027 plotEntropy 11.376 0.820 12.302 getEntropy 11.309 0.639 12.049 clusteringSummary 11.067 0.075 11.229 getGraphCentralityECDF 9.702 0.597 10.406 getCentralityMatrix 8.804 0.604 9.479 annotateTopOntoOVG 7.913 1.430 9.792 annotateSCHanno 6.005 1.005 13.681 runPermDisease 6.498 0.186 6.773 normModularity 5.738 0.515 6.312 calcSparsness 5.559 0.683 6.419 annotateGOont 5.252 0.985 6.831 annotateGoBP 4.650 0.561 5.375 FitDegree 1.005 0.049 6.282 getRandomGraphCentrality 0.668 0.029 14.089 * checking for unstated dependencies in ‘tests’ ... OK * checking tests ... Running ‘testthat.R’ OK * checking for unstated dependencies in vignettes ... OK * checking package vignettes ... OK * checking running R code from vignettes ... SKIPPED * checking re-building of vignette outputs ... SKIPPED * checking PDF version of manual ... OK * DONE Status: 2 NOTEs See ‘/Users/biocbuild/bbs-3.22-bioc/meat/BioNAR.Rcheck/00check.log’ for details.