Package: BioNAR Version: 1.11.0 Command: /Library/Frameworks/R.framework/Resources/bin/R CMD build --keep-empty-dirs --no-resave-data BioNAR StartedAt: 2025-07-11 16:13:22 -0400 (Fri, 11 Jul 2025) EndedAt: 2025-07-11 16:15:59 -0400 (Fri, 11 Jul 2025) EllapsedTime: 156.7 seconds RetCode: 0 Status: OK PackageFile: BioNAR_1.11.0.tar.gz PackageFileSize: 3.573 MiB