Package: BioNAR Version: 1.11.0 Command: /Library/Frameworks/R.framework/Resources/bin/R CMD INSTALL BioNAR StartedAt: 2025-07-13 15:24:31 -0400 (Sun, 13 Jul 2025) EndedAt: 2025-07-13 15:24:41 -0400 (Sun, 13 Jul 2025) EllapsedTime: 9.7 seconds RetCode: 0 Status: OK