Package: BioNAR Version: 1.11.0 Command: /Library/Frameworks/R.framework/Resources/bin/R CMD build --keep-empty-dirs --no-resave-data BioNAR StartedAt: 2025-07-16 15:43:56 -0400 (Wed, 16 Jul 2025) EndedAt: 2025-07-16 15:44:54 -0400 (Wed, 16 Jul 2025) EllapsedTime: 57.6 seconds RetCode: 0 Status: OK PackageFile: BioNAR_1.11.0.tar.gz PackageFileSize: 3.615 MiB