Package: BioMVCClass Version: 1.77.0 Command: /home/biocbuild/bbs-3.22-bioc/R/bin/R CMD build --keep-empty-dirs --no-resave-data --md5 BioMVCClass StartedAt: 2025-07-15 16:19:43 -0400 (Tue, 15 Jul 2025) EndedAt: 2025-07-15 16:19:50 -0400 (Tue, 15 Jul 2025) EllapsedTime: 7.0 seconds RetCode: 0 Status: OK PackageFile: BioMVCClass_1.77.0.tar.gz PackageFileSize: 131.9 KiB