Package: BioGA Version: 1.3.0 Command: F:\biocbuild\bbs-3.22-bioc\R\bin\R.exe CMD check --no-multiarch --install=check:BioGA.install-out.txt --library=F:\biocbuild\bbs-3.22-bioc\R\library --no-vignettes --timings BioGA_1.3.0.tar.gz StartedAt: 2025-07-04 23:47:53 -0400 (Fri, 04 Jul 2025) EndedAt: 2025-07-04 23:51:54 -0400 (Fri, 04 Jul 2025) EllapsedTime: 240.8 seconds RetCode: 0 Status: OK CheckDir: BioGA.Rcheck Warnings: 0