Package: BioCartaImage Version: 1.7.0 Command: /Library/Frameworks/R.framework/Resources/bin/R CMD check --install=check:BioCartaImage.install-out.txt --library=/Library/Frameworks/R.framework/Resources/library --no-vignettes --timings BioCartaImage_1.7.0.tar.gz StartedAt: 2025-10-10 18:23:46 -0400 (Fri, 10 Oct 2025) EndedAt: 2025-10-10 18:24:02 -0400 (Fri, 10 Oct 2025) EllapsedTime: 15.2 seconds RetCode: 0 Status: OK CheckDir: BioCartaImage.Rcheck Warnings: 0