Package: BindingSiteFinder Version: 2.7.1 Command: F:\biocbuild\bbs-3.22-bioc\R\bin\R.exe CMD INSTALL BindingSiteFinder StartedAt: 2025-07-22 16:04:35 -0400 (Tue, 22 Jul 2025) EndedAt: 2025-07-22 16:06:42 -0400 (Tue, 22 Jul 2025) EllapsedTime: 127.6 seconds RetCode: 0 Status: OK